BEGIN:VCALENDAR
VERSION:2.0
PRODID:-//LEGIO GROUP - ECPv6.15.20//NONSGML v1.0//EN
CALSCALE:GREGORIAN
METHOD:PUBLISH
X-WR-CALNAME:LEGIO GROUP
X-ORIGINAL-URL:https://legio.com
X-WR-CALDESC:Veranstaltungen für LEGIO GROUP
REFRESH-INTERVAL;VALUE=DURATION:PT1H
X-Robots-Tag:noindex
X-PUBLISHED-TTL:PT1H
BEGIN:VTIMEZONE
TZID:Europe/Berlin
BEGIN:DAYLIGHT
TZOFFSETFROM:+0100
TZOFFSETTO:+0200
TZNAME:CEST
DTSTART:20250330T010000
END:DAYLIGHT
BEGIN:STANDARD
TZOFFSETFROM:+0200
TZOFFSETTO:+0100
TZNAME:CET
DTSTART:20251026T010000
END:STANDARD
BEGIN:DAYLIGHT
TZOFFSETFROM:+0100
TZOFFSETTO:+0200
TZNAME:CEST
DTSTART:20260329T010000
END:DAYLIGHT
BEGIN:STANDARD
TZOFFSETFROM:+0200
TZOFFSETTO:+0100
TZNAME:CET
DTSTART:20261025T010000
END:STANDARD
BEGIN:DAYLIGHT
TZOFFSETFROM:+0100
TZOFFSETTO:+0200
TZNAME:CEST
DTSTART:20270328T010000
END:DAYLIGHT
BEGIN:STANDARD
TZOFFSETFROM:+0200
TZOFFSETTO:+0100
TZNAME:CET
DTSTART:20271031T010000
END:STANDARD
END:VTIMEZONE
BEGIN:VEVENT
DTSTART;VALUE=DATE:20260314
DTEND;VALUE=DATE:20260315
DTSTAMP:20260424T135355
CREATED:20260206T130918Z
LAST-MODIFIED:20260206T130918Z
UID:17565-1773446400-1773532799@legio.com
SUMMARY:Wundsymposium Friedrichshafen
DESCRIPTION:
URL:https://legio.com/messen/wundsymposium-friedrichshafen/
LOCATION:Graf Zeppelin Halle\, Olgastraße 20\, Friedrichshafen\, 88045\, Germany
END:VEVENT
BEGIN:VEVENT
DTSTART;VALUE=DATE:20260317
DTEND;VALUE=DATE:20260321
DTSTAMP:20260424T135355
CREATED:20260206T130643Z
LAST-MODIFIED:20260206T130643Z
UID:17562-1773705600-1774051199@legio.com
SUMMARY:SHK Essen
DESCRIPTION:Sie finden uns in Halle 7/ B17
URL:https://legio.com/messen/shk-essen-3/
LOCATION:Messe Essen\, Messepl. 1\, Essen\, 45131\, Germany
END:VEVENT
END:VCALENDAR